BEGIN:VCALENDAR
VERSION:2.0
PRODID:-//XCLSV Official - ECPv6.15.12.2//NONSGML v1.0//EN
CALSCALE:GREGORIAN
METHOD:PUBLISH
X-WR-CALNAME:XCLSV Official
X-ORIGINAL-URL:https://xclsvofficial.com
X-WR-CALDESC:Events for XCLSV Official
REFRESH-INTERVAL;VALUE=DURATION:PT1H
X-Robots-Tag:noindex
X-PUBLISHED-TTL:PT1H
BEGIN:VTIMEZONE
TZID:UTC
BEGIN:STANDARD
TZOFFSETFROM:+0000
TZOFFSETTO:+0000
TZNAME:UTC
DTSTART:20250101T000000
END:STANDARD
END:VTIMEZONE
BEGIN:VEVENT
DTSTART;TZID=UTC:20260228T190000
DTEND;TZID=UTC:20260301T020000
DTSTAMP:20260421T125045
CREATED:20260129T122332Z
LAST-MODIFIED:20260202T085819Z
UID:22295-1772305200-1772330400@xclsvofficial.com
SUMMARY:TROPICAL PARTY 2ND EDITION X ABI & MADATORRICELLI
DESCRIPTION:You are not ready for this…😈🇧🇷 \nAs the second edition of our annual #TropicalParty unfolds\, ABI X MADATORRICELLI are ready to turn @oxyaclub upside down on the very last day of winter😤🌋 \n#HSD X #CNT are leaving the frost behind❄️ and stepping into the most explosive Tropical Party — RIO CARNIVAL Edition.🏝️💚 \n🌴🌺 Mandatory Dresscode: Colorful & Tropical \nTickets link in bio🎟️ \n⚠️Disclaimer: Acesta este un eveniment privat\, fara implicarea management-ului institutiilor de învătământ! \nOWNED BY XCLSV ENTERTAINMENT
URL:https://xclsvofficial.com/event/tropical-party-x-abi-madatorricelli/
LOCATION:OXYA CLUB BUCHAREST\, Strada Caroteni 13\, București 023831\, Bucharest\, Bucharest\, Romania
ATTACH;FMTTYPE=image/jpeg:https://xclsvofficial.com/wp-content/uploads/2026/01/WhatsApp-Image-2026-01-29-at-12.25.31.jpeg
ORGANIZER;CN="XCLSV Official":MAILTO:office@xclsvofficial.com
END:VEVENT
BEGIN:VEVENT
DTSTART;TZID=UTC:20260308T190000
DTEND;TZID=UTC:20260309T020000
DTSTAMP:20260421T125045
CREATED:20260129T122755Z
LAST-MODIFIED:20260210T184640Z
UID:22301-1772996400-1773021600@xclsvofficial.com
SUMMARY:LADIES NIGHT X BDLP
DESCRIPTION:🎀#LadiesNight is here🌷✨ \n#CRG x #TV x #VLC creează un cadru unde eleganța este naturală\, prezența este rafinată\, iar vibe-ul este pur 🩷👛 \nSeara începe cu SEBY CHAMP & RZVN\, care dau tonul și aduc energia necesară🌸 \nMomentul central al serii îi aparține lui BOGDAN DE LA PLOIESTI. 🎤🩷 \nFără grabă. Fără exces. Doar o noapte de neuitat 🌙🌷 \n🎟️ Link in bio for tickets \n⚠️ Eveniment privat\, fără nicio asociere cu conducerea instituțiilor de învățământ. \nOWNED BY XCLSV ENTERTAINMENT
URL:https://xclsvofficial.com/event/ladies-night-x-bdlp/
LOCATION:OXYA CLUB BUCHAREST\, Strada Caroteni 13\, București 023831\, Bucharest\, Bucharest\, Romania
ATTACH;FMTTYPE=image/jpeg:https://xclsvofficial.com/wp-content/uploads/2026/01/COVER-Afis-Ladies-Night-BDLP-9-martie-2026-Oxya-1.jpg
ORGANIZER;CN="XCLSV Official":MAILTO:office@xclsvofficial.com
END:VEVENT
BEGIN:VEVENT
DTSTART;TZID=UTC:20260314T190000
DTEND;TZID=UTC:20260315T020000
DTSTAMP:20260421T125045
CREATED:20260202T180939Z
LAST-MODIFIED:20260202T180939Z
UID:22312-1773514800-1773540000@xclsvofficial.com
SUMMARY:LATINO PARTY 2ND EDITION X LELE & URSARU
DESCRIPTION:Una noche para recordar❤️‍🔥🇪🇸 \n#XEN\, #LOV & #NIC revin cu a doua ediție #LatinoParty — mai mult ritm\, mai multă energie 💃🤪\n🔥@robertlele1 & @manu.ursaru transforma noaptea într-un show total. From the first beat to the last — Latino takes control.✨ \n🎟️ Tickets link in bio \n⚠️ Disclaimer: Acesta este un eveniment privat\, fără implicarea management-ului instituțiilor de învățământ. \nOWNED BY XCLSV ENTERTAINMENT
URL:https://xclsvofficial.com/event/latino-party-2nd-edition-x-lele-ursaru/
LOCATION:OXYA CLUB BUCHAREST\, Strada Caroteni 13\, București 023831\, Bucharest\, Bucharest\, Romania
ATTACH;FMTTYPE=image/jpeg:https://xclsvofficial.com/wp-content/uploads/2026/02/COVER-Afis-Latino-Night-LeleUrsaru-14-martie-2026-Oxya-1.jpg
ORGANIZER;CN="XCLSV Official":MAILTO:office@xclsvofficial.com
END:VEVENT
BEGIN:VEVENT
DTSTART;TZID=UTC:20260321T190000
DTEND;TZID=UTC:20260322T020000
DTSTAMP:20260421T125045
CREATED:20260210T184521Z
LAST-MODIFIED:20260210T184521Z
UID:22315-1774119600-1774144800@xclsvofficial.com
SUMMARY:ATHLETES VS CHEERLEADERS X RAVA & PETRE STEFAN
DESCRIPTION:🏈Athletes vs Cheerleaders🎀 – where feminine charm meets power and determination🏆 \n#IRG x #RST x #LTN aduc o noapte unde grația întâlnește forța\, ritmul se bate cu adrenalina\, iar vibe-ul este inegalabil🔥\nTotul alaturi de cel mai asteptat duo al sezonului… @rava.rva & @petrestefan_11🧛🕸️ \nFără grabă. Fără limite. Doar o confruntare memorabilă sub luminile reflectoarelor in @oxyaclub 🌙✨ \nDresscode : 🏋️Sportivi sau Majorete🎀 \n🎟️ Tickets link in bio \n⚠️ Acesta este un eveniment privat fara implicarea instituțiilor de învățământ.
URL:https://xclsvofficial.com/event/athletes-vs-cheerleaders-x-rava-petre-stefan/
LOCATION:OXYA CLUB BUCHAREST\, Strada Caroteni 13\, București 023831\, Bucharest\, Bucharest\, Romania
ATTACH;FMTTYPE=image/jpeg:https://xclsvofficial.com/wp-content/uploads/2026/02/COVER-Afis-Athletes-vs-Cheerleaders-Rava-Petre-Stefan-21-mar-2026-Oxya.jpg
ORGANIZER;CN="XCLSV Official":MAILTO:office@xclsvofficial.com
END:VEVENT
END:VCALENDAR