BEGIN:VCALENDAR
VERSION:2.0
PRODID:-//XCLSV Official - ECPv6.15.12.2//NONSGML v1.0//EN
CALSCALE:GREGORIAN
METHOD:PUBLISH
X-WR-CALNAME:XCLSV Official
X-ORIGINAL-URL:https://xclsvofficial.com
X-WR-CALDESC:Events for XCLSV Official
REFRESH-INTERVAL;VALUE=DURATION:PT1H
X-Robots-Tag:noindex
X-PUBLISHED-TTL:PT1H
BEGIN:VTIMEZONE
TZID:UTC
BEGIN:STANDARD
TZOFFSETFROM:+0000
TZOFFSETTO:+0000
TZNAME:UTC
DTSTART:20240101T000000
END:STANDARD
END:VTIMEZONE
BEGIN:VEVENT
DTSTART;TZID=UTC:20251205T190000
DTEND;TZID=UTC:20251206T020000
DTSTAMP:20260421T171159
CREATED:20260129T105417Z
LAST-MODIFIED:20260129T105521Z
UID:22264-1764961200-1764986400@xclsvofficial.com
SUMMARY:DISNEY PARTY X ALBERT NBN\, TUSSIN & URSARU
DESCRIPTION:Vineri\, 5 decembrie\, ALBERT NBN\, TUSSIN & URSARU aduc magia copilariei pe scena @oxyaclub la #DisneyParty!🏰\nLasa realitatea la intrare si traieste o noapte desprinsa din universul Disney alaturi de un trio de-a dreptul special🪄✨\n⚠️Disclaimer: Acesta este un eveniment privat\, fără implicarea management-ului institutiilor de învătământ.\nOWNED BY XCLSV ENTERTAINMENT
URL:https://xclsvofficial.com/event/disney-party-x-albert-nbn-tussin-ursaru/
LOCATION:OXYA CLUB BUCHAREST\, Strada Caroteni 13\, București 023831\, Bucharest\, Bucharest\, Romania
ATTACH;FMTTYPE=image/jpeg:https://xclsvofficial.com/wp-content/uploads/2026/01/WhatsApp-Image-2026-01-29-at-12.46.45.jpeg
ORGANIZER;CN="XCLSV Official":MAILTO:office@xclsvofficial.com
END:VEVENT
BEGIN:VEVENT
DTSTART;TZID=UTC:20251213T190000
DTEND;TZID=UTC:20251214T020000
DTSTAMP:20260421T171159
CREATED:20260129T105158Z
LAST-MODIFIED:20260129T105158Z
UID:22260-1765652400-1765677600@xclsvofficial.com
SUMMARY:XMAS PARTY CONSTANTA X ABI
DESCRIPTION:Santa is HERE 🎅🏻. \n#Decebal\, #Pedagogic & #Ovidius deschid sezonul balurilor\nde boboci in @diplomaticmamaia alaturi de nimeni altul decat\nABI 🎉❤️‍🔥 \n🎄 #XMasParty cum nu a mai fost vreodata pe litoralul\nromanesc\, in stilul consacrat de unul dintre cele mai notorii\nbrand-uri din Bucuresti – @xclsv.official. 🥇\n🎟️ Link-ul de bilete se gaseste in bio. \nSUGGESTED DRESSCODE: Christmas Themed Outfits ⛄️ \n⚠️ Disclaimer: Acesta este un eveniment privat\, fără\nimplicarea managementului instituțiilor de învățământ. \nOWNED BY XCLSV ENTERTAINMENT
URL:https://xclsvofficial.com/event/xmas-party-constanta-x-abi/
LOCATION:DIPLOMATIC EVENT CENTER CONSTANTA\, Diplomatic Mamaia\, Constanta\, Constanta\, 900001\, Romania
ATTACH;FMTTYPE=image/jpeg:https://xclsvofficial.com/wp-content/uploads/2026/01/COVER-XMAS-PARTY-Abi-13-dec-2025-Diplomatic-Constanta.jpg
ORGANIZER;CN="XCLSV Official":MAILTO:office@xclsvofficial.com
END:VEVENT
BEGIN:VEVENT
DTSTART;TZID=UTC:20251220T190000
DTEND;TZID=UTC:20251221T020000
DTSTAMP:20260421T171159
CREATED:20260129T110012Z
LAST-MODIFIED:20260129T110012Z
UID:22269-1766257200-1766282400@xclsvofficial.com
SUMMARY:PRIVATE SCHOOLS XMAS PARTY X RAVA & NMW YANNI
DESCRIPTION:It’s beggining to look a lot like Christmas🎅🏻🎄 \n#HYPERION x #ICHB revin cu cea de-a 5-a editie #PrivateSchools XMAS PARTY alaturi de un duo mult asteptat… RAVA SI NMW YANNI.☃️🎁 \nSuggested dresscode: Christmas Themed Outfits🔴🟢 \n⚠️Disclaimer: Acesta este un eveniment privat\, fără implicarea management-ului instituțiilor de învățământ. \n📍Link in bio for tickets \nOWNED BY XCLSV ENTERTAINMENT
URL:https://xclsvofficial.com/event/private-schools-xmas-party-x-rava-nmw-yanni/
LOCATION:OXYA CLUB BUCHAREST\, Strada Caroteni 13\, București 023831\, Bucharest\, Bucharest\, Romania
ATTACH;FMTTYPE=image/jpeg:https://xclsvofficial.com/wp-content/uploads/2026/01/WhatsApp-Image-2026-01-29-at-12.35.55.jpeg
ORGANIZER;CN="XCLSV Official":MAILTO:office@xclsvofficial.com
END:VEVENT
END:VCALENDAR