BEGIN:VCALENDAR
VERSION:2.0
PRODID:-//XCLSV Official - ECPv6.15.12.2//NONSGML v1.0//EN
CALSCALE:GREGORIAN
METHOD:PUBLISH
X-WR-CALNAME:XCLSV Official
X-ORIGINAL-URL:https://xclsvofficial.com
X-WR-CALDESC:Events for XCLSV Official
REFRESH-INTERVAL;VALUE=DURATION:PT1H
X-Robots-Tag:noindex
X-PUBLISHED-TTL:PT1H
BEGIN:VTIMEZONE
TZID:UTC
BEGIN:STANDARD
TZOFFSETFROM:+0000
TZOFFSETTO:+0000
TZNAME:UTC
DTSTART:20240101T000000
END:STANDARD
END:VTIMEZONE
BEGIN:VEVENT
DTSTART;TZID=UTC:20251108T190000
DTEND;TZID=UTC:20251109T020000
DTSTAMP:20260421T183558
CREATED:20260129T102914Z
LAST-MODIFIED:20260129T103644Z
UID:22252-1762628400-1762653600@xclsvofficial.com
SUMMARY:ALL WHITE PARTY X PETRE STEFAN\, IDK & TUSSIN
DESCRIPTION:Exceeding expectations became a habit 😈🥇\nPETRE STEFAN\, IDK & TUSSIN arunca\n@oxyaclub in aer sambata\, 8 noiembrie 🌋\n🎟️Ultimele bilete disponibile se gasesc in bio\, come\nwitness the madness 🤯 \n#Spiru continua traditia pentru al cincilea an la rand cu\nunul dintre cele mai notorii evenimente din Bucuresti –\n#AllWhiteParty ⚪️ \nMandatory dresscode: ALL WHITE ⚪️\n⚠️Disclaimer: Acesta este un eveniment privat\, fără\nimplicarea management-ului instituțiilor de învățământ. \nOWNED BY XCLSV ENTERTAINMENT
URL:https://xclsvofficial.com/event/all-white-party-x-petre-stefan-idk-tussin/
LOCATION:OXYA CLUB BUCHAREST\, Strada Caroteni 13\, București 023831\, Bucharest\, Bucharest\, Romania
ATTACH;FMTTYPE=image/jpeg:https://xclsvofficial.com/wp-content/uploads/2026/01/WhatsApp-Image-2026-01-29-at-12.36.02.jpeg
ORGANIZER;CN="XCLSV Official":MAILTO:office@xclsvofficial.com
END:VEVENT
BEGIN:VEVENT
DTSTART;TZID=UTC:20251122T190000
DTEND;TZID=UTC:20251123T020000
DTSTAMP:20260421T183558
CREATED:20260129T101958Z
LAST-MODIFIED:20260129T103112Z
UID:22249-1763838000-1763863200@xclsvofficial.com
SUMMARY:ANGELS VS DEMONS X ABI & IDK
DESCRIPTION:The wait is over❕🚨 \n#SINCAI și #VTZ aduc pe scena din @oxyaclub un combo neasteptat de artisti… ABI & IDK 💯 \n🌓 One night. One club. Two worlds.😈 \nDarkness or light? The choice is yours👁️ \n🤍🖤Dresscode mandatory: Straight out of heaven’s gates or hell’s fire. Full white or full black. Nothing in between. \n⚠️Disclaimer: Acesta este un eveniment privat\, fără implicarea management-ului instituțiilor de învățământ. \nOWNED BY XCLSV ENTERTAINMENT
URL:https://xclsvofficial.com/event/angels-vs-demons-x-abi-idk/
LOCATION:OXYA CLUB BUCHAREST\, Strada Caroteni 13\, București 023831\, Bucharest\, Bucharest\, Romania
ATTACH;FMTTYPE=image/jpeg:https://xclsvofficial.com/wp-content/uploads/2026/01/WhatsApp-Image-2026-01-29-at-12.13.37.jpeg
ORGANIZER;CN="XCLSV Official":MAILTO:office@xclsvofficial.com
END:VEVENT
BEGIN:VEVENT
DTSTART;TZID=UTC:20251128T190000
DTEND;TZID=UTC:20251129T020000
DTSTAMP:20260421T183558
CREATED:20260129T104345Z
LAST-MODIFIED:20260129T104345Z
UID:22257-1764356400-1764381600@xclsvofficial.com
SUMMARY:BALKAN PARTY X TZANCA URAGANU
DESCRIPTION:🇷🇴 BALKAN BLOOD. ROMANIAN SOUL. 🇷🇴\n#NCL × #LIP × #MDG revin cu o ediție specială\, dedicată Zilei Naționale a României! 🔥\n@oxyaclub devine scena celei de-a 3-a ediții #BalkanParty\, alături de mult-așteptatul TZANCA URAGANU🌪️\nPregătiți-vă pentru o seară plină de energie\, vibe balcanic autentic și distracție in stil românesc.🇷🇴 🤩 \n🎟️ SUGGESTED DRESSCODE: culorile tricolorului — roșu\, galben\, albastru. \n⚠️ Disclaimer: Acesta este un eveniment privat\, fără implicarea managementului instituțiilor de învățământ. \nOWNED BY XCLSV ENTERTAINMENT
URL:https://xclsvofficial.com/event/balkan-party-x-tzanca-uraganu/
LOCATION:OXYA CLUB BUCHAREST\, Strada Caroteni 13\, București 023831\, Bucharest\, Bucharest\, Romania
ATTACH;FMTTYPE=image/jpeg:https://xclsvofficial.com/wp-content/uploads/2026/01/WhatsApp-Image-2026-01-29-at-12.36.12.jpeg
ORGANIZER;CN="XCLSV Official":MAILTO:office@xclsvofficial.com
END:VEVENT
END:VCALENDAR