BEGIN:VCALENDAR
VERSION:2.0
PRODID:-//XCLSV Official - ECPv6.15.12.2//NONSGML v1.0//EN
CALSCALE:GREGORIAN
METHOD:PUBLISH
X-WR-CALNAME:XCLSV Official
X-ORIGINAL-URL:https://xclsvofficial.com
X-WR-CALDESC:Events for XCLSV Official
REFRESH-INTERVAL;VALUE=DURATION:PT1H
X-Robots-Tag:noindex
X-PUBLISHED-TTL:PT1H
BEGIN:VTIMEZONE
TZID:UTC
BEGIN:STANDARD
TZOFFSETFROM:+0000
TZOFFSETTO:+0000
TZNAME:UTC
DTSTART:20230101T000000
END:STANDARD
END:VTIMEZONE
BEGIN:VEVENT
DTSTART;VALUE=DATE:20241031
DTEND;VALUE=DATE:20241101
DTSTAMP:20260422T020605
CREATED:20240927T171602Z
LAST-MODIFIED:20241108T102040Z
UID:21775-1730332800-1730419199@xclsvofficial.com
SUMMARY:Halloween party L'ecole centrale\, Lycee Monnet
DESCRIPTION:
URL:https://xclsvofficial.com/event/halloween-party-lecole-centrale-lycee-monnet/
LOCATION:OXYA CLUB BUCHAREST\, Strada Caroteni 13\, București 023831\, Bucharest\, Bucharest\, Romania
ATTACH;FMTTYPE=image/png:https://xclsvofficial.com/wp-content/uploads/2024/09/Untitled-4.png
ORGANIZER;CN="XCLSV Official":MAILTO:office@xclsvofficial.com
END:VEVENT
BEGIN:VEVENT
DTSTART;VALUE=DATE:20240831
DTEND;VALUE=DATE:20240901
DTSTAMP:20260422T020605
CREATED:20240823T094143Z
LAST-MODIFIED:20240919T093545Z
UID:21384-1725062400-1725148799@xclsvofficial.com
SUMMARY:BBB
DESCRIPTION:2 days of festival with your favorite artists. 👉🏻 Grab your ticket and meet us straight at the airport ✈️\nWho’s ready for takeoff? 🛫
URL:https://xclsvofficial.com/event/bbb/
LOCATION:ROMAERO S.A.\, ROMAERO S.A.\, Bulevardul Ficusului 44\, București 013975\, Bucharest\, Bucharest\, Romania
ATTACH;FMTTYPE=image/jpeg:https://xclsvofficial.com/wp-content/uploads/2020/05/BBB-Epicu-1049.jpg
ORGANIZER;CN="XCLSV Official":MAILTO:office@xclsvofficial.com
END:VEVENT
BEGIN:VEVENT
DTSTART;TZID=UTC:20240215T210000
DTEND;TZID=UTC:20240216T040000
DTSTAMP:20260422T020605
CREATED:20240826T094636Z
LAST-MODIFIED:20240829T135303Z
UID:1215-1708030800-1708056000@xclsvofficial.com
SUMMARY:Valentine's Day Party #LZR
DESCRIPTION:Wanna meet your valentine?💘\n#LZR împreună cu @oscarfaceit te ajută să îți găsești perechea🔜💍 \nAlege-ți brățara la intrare:\n🤍- single\n❤️- taken\n🩷- complicated
URL:https://xclsvofficial.com/event/valentines-day-party-lzr/
LOCATION:BOA – Beat Of Angles\, BOA - Beat of Angels Bucharest\, Şoseaua Pavel D. Kiseleff 32\, București 014192\, Bucharest\, Bucharest\, Romania
ATTACH;FMTTYPE=image/png:https://xclsvofficial.com/wp-content/uploads/2024/08/Untitled-10.png
ORGANIZER;CN="XCLSV Official":MAILTO:office@xclsvofficial.com
END:VEVENT
END:VCALENDAR