BEGIN:VCALENDAR
VERSION:2.0
PRODID:-//XCLSV Official - ECPv6.15.12.2//NONSGML v1.0//EN
CALSCALE:GREGORIAN
METHOD:PUBLISH
X-WR-CALNAME:XCLSV Official
X-ORIGINAL-URL:https://xclsvofficial.com
X-WR-CALDESC:Events for XCLSV Official
REFRESH-INTERVAL;VALUE=DURATION:PT1H
X-Robots-Tag:noindex
X-PUBLISHED-TTL:PT1H
BEGIN:VTIMEZONE
TZID:UTC
BEGIN:STANDARD
TZOFFSETFROM:+0000
TZOFFSETTO:+0000
TZNAME:UTC
DTSTART:20230101T000000
END:STANDARD
END:VTIMEZONE
BEGIN:VEVENT
DTSTART;VALUE=DATE:20250511
DTEND;VALUE=DATE:20250512
DTSTAMP:20260422T024916
CREATED:20250407T132122Z
LAST-MODIFIED:20250407T132122Z
UID:21953-1746921600-1747007999@xclsvofficial.com
SUMMARY:ZIUA LUI RAVA
DESCRIPTION:@rava.rva\, cel mai mare artist din industria trap-ului romanesc\, isi serbeaza ziua pe scena @laminor.arena in data de 11 mai 😈
URL:https://xclsvofficial.com/event/ziua-lui-rava/
LOCATION:LAMINOR AERNA BUCHAREST\, Bulevardul Basarabia 256\, București 030352\, Bucharest\, Bucharest\, Romania
ATTACH;FMTTYPE=image/jpeg:https://xclsvofficial.com/wp-content/uploads/2025/04/Background_ZOOM.jpg
ORGANIZER;CN="XCLSV Official":MAILTO:office@xclsvofficial.com
END:VEVENT
BEGIN:VEVENT
DTSTART;VALUE=DATE:20250412
DTEND;VALUE=DATE:20250413
DTSTAMP:20260422T024916
CREATED:20250307T164255Z
LAST-MODIFIED:20250307T164255Z
UID:21885-1744416000-1744502399@xclsvofficial.com
SUMMARY:#SUPERCHARGED⚡️
DESCRIPTION:#SUPERCHARGED⚡️ \n@rooobbiiiiii – omul din spatele celor mai mari hituri din trap-ul românesc va urca pe scena @laminor_arena alături de cei mai mari artiști din țară pentru a scrie istorie într-o seară fără precedent. 🔥
URL:https://xclsvofficial.com/event/supercharged%e2%9a%a1%ef%b8%8f/
LOCATION:LAMINOR AERNA BUCHAREST\, Bulevardul Basarabia 256\, București 030352\, Bucharest\, Bucharest\, Romania
ATTACH;FMTTYPE=image/jpeg:https://xclsvofficial.com/wp-content/uploads/2025/03/WhatsApp-Image-2025-03-06-at-14.03.21-1.jpeg
ORGANIZER;CN="XCLSV Official":MAILTO:office@xclsvofficial.com
END:VEVENT
BEGIN:VEVENT
DTSTART;VALUE=DATE:20250322
DTEND;VALUE=DATE:20250323
DTSTAMP:20260422T024916
CREATED:20250307T164111Z
LAST-MODIFIED:20250307T164111Z
UID:21882-1742601600-1742687999@xclsvofficial.com
SUMMARY:Arabian Night #VLH #BSB #CLN
DESCRIPTION:Habibi\, come to Dubai! 🐪 \nBobocii din #VLH\, #BSB si #CLN va invita la ultimul bal din acest sezon alaturi de @1babyabi1 . Veniti sa descoperiti farmecul oriental la Arabian Night si pregatiti-va pentru o aventura de 1001 de nopti!🔮 \n⚠️Disclaimer: Acesta este un eveniment privat\, fara implicarea management-ului institutillor de invatamant. \nMandatory Dresscode\n•Boys in white 👳🏽‍♂️\n•Girls in glitter ✨
URL:https://xclsvofficial.com/event/arabian-night-vlh-bsb-cln/
LOCATION:OXYA CLUB BUCHAREST\, Strada Caroteni 13\, București 023831\, Bucharest\, Bucharest\, Romania
ATTACH;FMTTYPE=image/jpeg:https://xclsvofficial.com/wp-content/uploads/2025/03/WhatsApp-Image-2025-03-06-at-14.03.20-1.jpeg
ORGANIZER;CN="XCLSV Official":MAILTO:office@xclsvofficial.com
END:VEVENT
BEGIN:VEVENT
DTSTART;VALUE=DATE:20250321
DTEND;VALUE=DATE:20250322
DTSTAMP:20260422T024916
CREATED:20250131T113654Z
LAST-MODIFIED:20250207T150716Z
UID:21858-1742515200-1742601599@xclsvofficial.com
SUMMARY:DON'T LET DADDY KNOW / STEVE AOKI
DESCRIPTION:The first headliner for Don’t Let Daddy Know Romania is none other than the king of energy himself – @steveaoki! 🇷🇴 \n💥 Get ready for an unforgettable night in Bucharest filled with electrifying beats\, insane drops\, and\, of course\, legendary cake throws! 🎂 \nWho’s ready to lose their minds again on 21 March 2025? 🚀 Tag your crew and let’s make history! \nGet your tickets now at a special price via link in bio. 🎫
URL:https://xclsvofficial.com/event/dont-let-daddy-know-steve-aoki/
LOCATION:LAMINOR AERNA BUCHAREST\, Bulevardul Basarabia 256\, București 030352\, Bucharest\, Bucharest\, Romania
ATTACH;FMTTYPE=image/jpeg:https://xclsvofficial.com/wp-content/uploads/2025/01/WhatsApp-Image-2025-01-31-at-11.09.11.jpeg
ORGANIZER;CN="XCLSV Official":MAILTO:office@xclsvofficial.com
END:VEVENT
BEGIN:VEVENT
DTSTART;VALUE=DATE:20250315
DTEND;VALUE=DATE:20250316
DTSTAMP:20260422T024916
CREATED:20250307T163930Z
LAST-MODIFIED:20250307T163930Z
UID:21879-1741996800-1742083199@xclsvofficial.com
SUMMARY:Latino Night #Cantemir & #Hasdeu📍🔥
DESCRIPTION:‼️#Cantemir & #Hasdeu📍🔥 \nIn noaptea dintre ultima zi de iarna si prima zi de primavara\, @itsbetobih & @nouaunspe vor urca in premiera pe scena la Latino Party.🏝️ \n⚠️Disclaimer: Acesta este un eveniment privat\, organizat fara implicarea management-ului institutillor de invatamant. \nSuggested Dresscode : Tropical Colors
URL:https://xclsvofficial.com/event/latino-night-cantemir-hasdeu%f0%9f%93%8d%f0%9f%94%a5/
LOCATION:OXYA CLUB BUCHAREST\, Strada Caroteni 13\, București 023831\, Bucharest\, Bucharest\, Romania
ATTACH;FMTTYPE=image/jpeg:https://xclsvofficial.com/wp-content/uploads/2025/03/WhatsApp-Image-2025-03-06-at-14.03.21.jpeg
ORGANIZER;CN="XCLSV Official":MAILTO:office@xclsvofficial.com
END:VEVENT
BEGIN:VEVENT
DTSTART;VALUE=DATE:20250309
DTEND;VALUE=DATE:20250310
DTSTAMP:20260422T024916
CREATED:20250307T163042Z
LAST-MODIFIED:20250307T163059Z
UID:21871-1741478400-1741564799@xclsvofficial.com
SUMMARY:#LadiesNight All in Red Party ❤️🌹
DESCRIPTION:#LadiesNight All in Red Party ❤️🌹 \nCu ocazia serbării acelor persoane fără de care viețile noastre nu ar avea culoare\, @tzanca__uraganu va aduce un altfel de show🍾🤩 \nMandatory dress code – Red Top🔴 \n⚠️Disclaimer : Acesta este un eveniment privat\, organizat fără implicarea management-ului instituțiilor de învățământ.
URL:https://xclsvofficial.com/event/ladiesnight-all-in-red-party-%e2%9d%a4%ef%b8%8f%f0%9f%8c%b9/
LOCATION:OXYA CLUB BUCHAREST\, Strada Caroteni 13\, București 023831\, Bucharest\, Bucharest\, Romania
ATTACH;FMTTYPE=image/jpeg:https://xclsvofficial.com/wp-content/uploads/2025/03/WhatsApp-Image-2025-03-06-at-14.03.20.jpeg
ORGANIZER;CN="XCLSV Official":MAILTO:office@xclsvofficial.com
END:VEVENT
BEGIN:VEVENT
DTSTART;VALUE=DATE:20250228
DTEND;VALUE=DATE:20250301
DTSTAMP:20260422T024916
CREATED:20250131T111949Z
LAST-MODIFIED:20250207T150708Z
UID:21851-1740700800-1740787199@xclsvofficial.com
SUMMARY:Tropical Party 🏝️ #Cantemir & #Hasdeu
DESCRIPTION:#Cantemir & #Hasdeu are in the house! 🔥🫨 \nIn noaptea dintre ultima zi de iarna si prima zi de primavara\, @itsbetobih & @nouaunspe vor urca in premiera pe scena @oxyaclub la Tropical Party.🏝️ \n⚠️Disclaimer: Acesta este un eveniment privat\, organizat fara implicarea management-ului institutillor de invatamant. \nSuggested Dresscode : Tropical Colors \nLink in bio for tickets🎟️
URL:https://xclsvofficial.com/event/tropical-party-%f0%9f%8f%9d%ef%b8%8f-cantemir-hasdeu/
LOCATION:OXYA CLUB BUCHAREST\, Strada Caroteni 13\, București 023831\, Bucharest\, Bucharest\, Romania
ATTACH;FMTTYPE=image/jpeg:https://xclsvofficial.com/wp-content/uploads/2025/01/WhatsApp-Image-2025-01-29-at-17.23.41.jpeg
ORGANIZER;CN="XCLSV Official":MAILTO:office@xclsvofficial.com
END:VEVENT
BEGIN:VEVENT
DTSTART;VALUE=DATE:20250213
DTEND;VALUE=DATE:20250214
DTSTAMP:20260422T024916
CREATED:20250108T144222Z
LAST-MODIFIED:20250108T144222Z
UID:21847-1739404800-1739491199@xclsvofficial.com
SUMMARY:VALENTINES DAY PARTY X RAVA
DESCRIPTION:Wanna meet your valentine?💘\nBobocii din #LZR împreună cu @rava.rva iti ofera date-ul perfect sau te ajută să îți găsești perechea @oxyaclub 🔜💍 \n🚨Disclaimer: Acesta este un eveniment privat\, fără implicarea management-ului instituțiilor de invățământ. \n⚠️Mandatory Dresscode:\n🤍- single\n❤️- taken \n📍Link in bio for tickets
URL:https://xclsvofficial.com/event/valentines-day-party-x-rava/
LOCATION:OXYA CLUB BUCHAREST\, Strada Caroteni 13\, București 023831\, Bucharest\, Bucharest\, Romania
ATTACH;FMTTYPE=image/jpeg:https://xclsvofficial.com/wp-content/uploads/2025/01/WhatsApp-Image-2025-01-08-at-16.19.29.jpeg
ORGANIZER;CN="XCLSV Official":MAILTO:office@xclsvofficial.com
END:VEVENT
BEGIN:VEVENT
DTSTART;VALUE=DATE:20250201
DTEND;VALUE=DATE:20250202
DTSTAMP:20260422T024916
CREATED:20250108T144042Z
LAST-MODIFIED:20250108T144042Z
UID:21844-1738368000-1738454399@xclsvofficial.com
SUMMARY:MAFIA PARTY #VTZ
DESCRIPTION:#VTZ va invita sa aflati cine este intr-adevar “Capo di tutti” in randul liceelor din Bucuresti.😈♣️ \n#MafiaParty alaturi de mult asteptatul @nusuntian.🏴 \n⚠️Disclaimer: Acesta este un eveniment privat\, fara implicarea management-ului institutillor de invatamant. \nSuggested Dresscode : Elegant Attire
URL:https://xclsvofficial.com/event/mafia-party-vtz/
LOCATION:OXYA CLUB BUCHAREST\, Strada Caroteni 13\, București 023831\, Bucharest\, Bucharest\, Romania
ATTACH;FMTTYPE=image/jpeg:https://xclsvofficial.com/wp-content/uploads/2025/01/WhatsApp-Image-2025-01-08-at-16.20.08.jpeg
ORGANIZER;CN="XCLSV Official":MAILTO:office@xclsvofficial.com
END:VEVENT
BEGIN:VEVENT
DTSTART;VALUE=DATE:20250123
DTEND;VALUE=DATE:20250124
DTSTAMP:20260422T024916
CREATED:20250108T143608Z
LAST-MODIFIED:20250108T143608Z
UID:21836-1737590400-1737676799@xclsvofficial.com
SUMMARY:Winter Wonderland x IDK & TUSSIN
DESCRIPTION:Big News❕ \nDam start anului 2025 cu cel mai tare bal mascat! 🎭 \nDuo-ul vostru preferat @robii_tussin si @idkxsh urca pe scena la cel mai asteptat bal al iernii 🥶 \n⚠️Disclaimer: Acesta este un eveniment privat\, fara implicarea management-ului institutillor de invatamant. \nMandatory Dress Code: All white🤍 \nLink in bio for tickets.🎟️
URL:https://xclsvofficial.com/event/winter-wonderland-x-idk-tussin/
LOCATION:OXYA CLUB BUCHAREST\, Strada Caroteni 13\, București 023831\, Bucharest\, Bucharest\, Romania
ATTACH;FMTTYPE=image/jpeg:https://xclsvofficial.com/wp-content/uploads/2025/01/WhatsApp-Image-2025-01-08-at-16.19.10.jpeg
ORGANIZER;CN="XCLSV Official":MAILTO:office@xclsvofficial.com
END:VEVENT
BEGIN:VEVENT
DTSTART;VALUE=DATE:20241221
DTEND;VALUE=DATE:20241222
DTSTAMP:20260422T024916
CREATED:20250108T141710Z
LAST-MODIFIED:20250108T141710Z
UID:21831-1734739200-1734825599@xclsvofficial.com
SUMMARY:Private School Xmas Party x RAVA
DESCRIPTION:Christmas time is HERE!🎅 \nBobocii din #ICHB si #Hyperion il aduc pe @rava.rva la cel mai popular bal de Craciun🎄 \n⚠️Disclaimer: Acesta este un eveniment privat\, fara implicarea management-ului institutillor de invatamant. \nSuggested Dresscode: Red and White 🔴⚪️ \nLink in bio for tickets.🎟️
URL:https://xclsvofficial.com/event/private-school-xmas-party-x-rava/
LOCATION:OXYA CLUB BUCHAREST\, Strada Caroteni 13\, București 023831\, Bucharest\, Bucharest\, Romania
ATTACH;FMTTYPE=image/jpeg:https://xclsvofficial.com/wp-content/uploads/2025/01/WhatsApp-Image-2025-01-08-at-16.11.08-1.jpeg
ORGANIZER;CN="XCLSV Official":MAILTO:office@xclsvofficial.com
END:VEVENT
BEGIN:VEVENT
DTSTART;VALUE=DATE:20241214
DTEND;VALUE=DATE:20241215
DTSTAMP:20260422T024916
CREATED:20241114T102938Z
LAST-MODIFIED:20241114T102938Z
UID:21813-1734134400-1734220799@xclsvofficial.com
SUMMARY:⚠️Warning - Y2K Party is officially ON💿📸
DESCRIPTION:#Cosbuc x #LaudeReut – @stefcostea x @candyboiishawty 🌓🍬 \n🚩Be there. \n⚠️Disclaimer: Acesta este un eveniment privat\, fara implicarea management-ului institutillor de invatamant. \nSuggested Dresscode: Y2K
URL:https://xclsvofficial.com/event/%e2%9a%a0%ef%b8%8fwarning-y2k-party-is-officially-on%f0%9f%92%bf%f0%9f%93%b8/
LOCATION:OXYA CLUB BUCHAREST\, Strada Caroteni 13\, București 023831\, Bucharest\, Bucharest\, Romania
ATTACH;FMTTYPE=image/jpeg:https://xclsvofficial.com/wp-content/uploads/2024/11/WhatsApp-Image-2024-11-12-at-18.28.37_df1a13a1.jpg
ORGANIZER;CN="XCLSV Official":MAILTO:office@xclsvofficial.com
END:VEVENT
BEGIN:VEVENT
DTSTART;VALUE=DATE:20241201
DTEND;VALUE=DATE:20241202
DTSTAMP:20260422T024916
CREATED:20241111T103908Z
LAST-MODIFIED:20241111T103908Z
UID:21809-1733011200-1733097599@xclsvofficial.com
SUMMARY:#BALKAN PARTY NEC LIP MDG
DESCRIPTION:In premiera\, @costelbiju & @tonyone.1 urca pe scena clubului Oxya pe data de 1 decembrie la Balkan Party!🍾🎊 \nLa multi ani Romania! 🇷🇴 \n⚠️Disclaimer: Acesta este un eveniment privat\, fara implicarea management-ului institutiilor de invatamant.
URL:https://xclsvofficial.com/event/balkan-party-nec-lip-mdg/
LOCATION:OXYA CLUB BUCHAREST\, Strada Caroteni 13\, București 023831\, Bucharest\, Bucharest\, Romania
ATTACH;FMTTYPE=image/jpeg:https://xclsvofficial.com/wp-content/uploads/2024/11/WhatsApp-Image-2024-11-11-at-12.16.11_53f57597.jpg
ORGANIZER;CN="XCLSV Official":MAILTO:office@xclsvofficial.com
END:VEVENT
BEGIN:VEVENT
DTSTART;VALUE=DATE:20241121
DTEND;VALUE=DATE:20241122
DTSTAMP:20260422T024916
CREATED:20241026T170828Z
LAST-MODIFIED:20241026T170828Z
UID:21795-1732147200-1732233599@xclsvofficial.com
SUMMARY:THE NEON PARTY CARAGIALE
DESCRIPTION:#CARAGIALE is back home!🔥 \n@mgk666bigboss se intoarce anul acesta la #CARAGIALE alaturi de @nbnofficialmusic la cel mai asteptat #NEONPARTY din acest an❗️🥂 \n🚨Sugested Dress Code: Neon Colors🟢🟣 \n⚠️Disclaimer: Acesta este un eveniment privat\, fara implicarea management-ului institutiilor de invatamant.
URL:https://xclsvofficial.com/event/the-neon-party-caragiale/
LOCATION:OXYA CLUB BUCHAREST\, Strada Caroteni 13\, București 023831\, Bucharest\, Bucharest\, Romania
ATTACH;FMTTYPE=image/jpeg:https://xclsvofficial.com/wp-content/uploads/2024/10/WhatsApp-Image-2024-10-26-at-19.55.16.jpeg
ORGANIZER;CN="XCLSV Official":MAILTO:office@xclsvofficial.com
END:VEVENT
BEGIN:VEVENT
DTSTART;VALUE=DATE:20241107
DTEND;VALUE=DATE:20241108
DTSTAMP:20260422T024916
CREATED:20241011T055212Z
LAST-MODIFIED:20241108T102100Z
UID:21786-1730937600-1731023999@xclsvofficial.com
SUMMARY:Spiru is in the house 🎉🪩
DESCRIPTION:@petrestefan_11 & @robii_tussin vor urca pe scenă la unul dintre cele mai apreciate baluri de boboci din București🏅 \n⚪️Mandatory dress code – All in White. \n⚠️Disclaimer: Acesta este un eveniment privat\, fara implicarea management-ului institutiilor de invatamant.
URL:https://xclsvofficial.com/event/spiru-is-in-the-house-%f0%9f%8e%89%f0%9f%aa%a9/
LOCATION:OXYA CLUB BUCHAREST\, Strada Caroteni 13\, București 023831\, Bucharest\, Bucharest\, Romania
ATTACH;FMTTYPE=image/jpeg:https://xclsvofficial.com/wp-content/uploads/2024/10/WhatsApp-Image-2024-10-10-at-14.18.18_b97ea317.jpg
ORGANIZER;CN="XCLSV Official":MAILTO:office@xclsvofficial.com
END:VEVENT
BEGIN:VEVENT
DTSTART;VALUE=DATE:20241031
DTEND;VALUE=DATE:20241101
DTSTAMP:20260422T024916
CREATED:20240927T171602Z
LAST-MODIFIED:20241108T102040Z
UID:21775-1730332800-1730419199@xclsvofficial.com
SUMMARY:Halloween party L'ecole centrale\, Lycee Monnet
DESCRIPTION:
URL:https://xclsvofficial.com/event/halloween-party-lecole-centrale-lycee-monnet/
LOCATION:OXYA CLUB BUCHAREST\, Strada Caroteni 13\, București 023831\, Bucharest\, Bucharest\, Romania
ATTACH;FMTTYPE=image/png:https://xclsvofficial.com/wp-content/uploads/2024/09/Untitled-4.png
ORGANIZER;CN="XCLSV Official":MAILTO:office@xclsvofficial.com
END:VEVENT
BEGIN:VEVENT
DTSTART;VALUE=DATE:20240831
DTEND;VALUE=DATE:20240901
DTSTAMP:20260422T024916
CREATED:20240823T094143Z
LAST-MODIFIED:20240919T093545Z
UID:21384-1725062400-1725148799@xclsvofficial.com
SUMMARY:BBB
DESCRIPTION:2 days of festival with your favorite artists. 👉🏻 Grab your ticket and meet us straight at the airport ✈️\nWho’s ready for takeoff? 🛫
URL:https://xclsvofficial.com/event/bbb/
LOCATION:ROMAERO S.A.\, ROMAERO S.A.\, Bulevardul Ficusului 44\, București 013975\, Bucharest\, Bucharest\, Romania
ATTACH;FMTTYPE=image/jpeg:https://xclsvofficial.com/wp-content/uploads/2020/05/BBB-Epicu-1049.jpg
ORGANIZER;CN="XCLSV Official":MAILTO:office@xclsvofficial.com
END:VEVENT
BEGIN:VEVENT
DTSTART;TZID=UTC:20240215T210000
DTEND;TZID=UTC:20240216T040000
DTSTAMP:20260422T024916
CREATED:20240826T094636Z
LAST-MODIFIED:20240829T135303Z
UID:1215-1708030800-1708056000@xclsvofficial.com
SUMMARY:Valentine's Day Party #LZR
DESCRIPTION:Wanna meet your valentine?💘\n#LZR împreună cu @oscarfaceit te ajută să îți găsești perechea🔜💍 \nAlege-ți brățara la intrare:\n🤍- single\n❤️- taken\n🩷- complicated
URL:https://xclsvofficial.com/event/valentines-day-party-lzr/
LOCATION:BOA – Beat Of Angles\, BOA - Beat of Angels Bucharest\, Şoseaua Pavel D. Kiseleff 32\, București 014192\, Bucharest\, Bucharest\, Romania
ATTACH;FMTTYPE=image/png:https://xclsvofficial.com/wp-content/uploads/2024/08/Untitled-10.png
ORGANIZER;CN="XCLSV Official":MAILTO:office@xclsvofficial.com
END:VEVENT
END:VCALENDAR