BEGIN:VCALENDAR
VERSION:2.0
PRODID:-//XCLSV Official - ECPv6.15.12.2//NONSGML v1.0//EN
CALSCALE:GREGORIAN
METHOD:PUBLISH
X-WR-CALNAME:XCLSV Official
X-ORIGINAL-URL:https://xclsvofficial.com
X-WR-CALDESC:Events for XCLSV Official
REFRESH-INTERVAL;VALUE=DURATION:PT1H
X-Robots-Tag:noindex
X-PUBLISHED-TTL:PT1H
BEGIN:VTIMEZONE
TZID:UTC
BEGIN:STANDARD
TZOFFSETFROM:+0000
TZOFFSETTO:+0000
TZNAME:UTC
DTSTART:20250101T000000
END:STANDARD
END:VTIMEZONE
BEGIN:VEVENT
DTSTART;TZID=UTC:20260501T220000
DTEND;TZID=UTC:20260502T060000
DTSTAMP:20260421T143600
CREATED:20260325T070550Z
LAST-MODIFIED:20260325T070550Z
UID:22340-1777672800-1777701600@xclsvofficial.com
SUMMARY:MAY 1ST X FLORIN SALAM\, ALEX BOTEA & CBZ
DESCRIPTION:🌊 CONSTANȚA\, ARE YOU READY? 🔥 \nDăm tonul distracției într-una dintre cele mai așteptate perioade din an ✨ \nNe vedem la malul mării pentru un party care aduce vibe-ul verii mai devreme decât te aștepți 🌊🔥\nO noapte în care totul se aliniază — oameni\, muzică\, energie ⚡ \nTrei nume grele urcă pe scenă — @florinsalam_official \, împreună cu @cristidelabuzaucbz și @alex.botea1 \, vor transforma noaptea într-un spectacol continuu de energie\, hituri și momente pe care nu le uiți 🎤🔥 \nDe la primele acorduri până la ultimul beat\, vibe-ul o să fie la maximum — fără pauze\, fără limite\, doar distracție la cel mai înalt nivel 🚀 \n🎟️ Tickets available now. \nOWNED BY XCLSV ENTERTAINMENT
URL:https://xclsvofficial.com/event/may-1st-x-florin-salam-alex-botea-cbz/
LOCATION:DIPLOMATIC EVENT CENTER CONSTANTA\, Diplomatic Mamaia\, Constanta\, Constanta\, 900001\, Romania
ATTACH;FMTTYPE=image/jpeg:https://xclsvofficial.com/wp-content/uploads/2026/03/COVER-May-1st-Party-Flroin-Salam-Alex-Botea-CBZ-1-mai-2026-Diplomatic-1.jpg
ORGANIZER;CN="XCLSV Official":MAILTO:office@xclsvofficial.com
END:VEVENT
BEGIN:VEVENT
DTSTART;TZID=UTC:20260529T160000
DTEND;TZID=UTC:20260601T040000
DTSTAMP:20260421T143600
CREATED:20260323T165204Z
LAST-MODIFIED:20260324T111140Z
UID:22332-1780070400-1780286400@xclsvofficial.com
SUMMARY:BBB 2026 - AROUND THE WORLD FESTIVAL X OFFSET
DESCRIPTION:THE WAIT IS OVER. \n#BBB2026 : AROUND THE WORLD is back — ✈️\nLast year we took the industry by storm. 🌪️\nWe redefined this game.\nNow we are TAKING OVER. No mercy. 🩸 \nExplore different cultures\, let yourself be carried away by passion\, feel a new type of emotion. ✨ \nOFFSET IS COMING TO BBB 2026. 🇷🇴 \nFrom Atlanta to Bucharest — one of the biggest names in the game lands at BBB 2026: Around the World 🌍 \nRomania’s biggest trap artists will be joining him — full lineup dropping soon 🔥 \n📍 Romaero — 29–30 May\n🎟️ Tickets live now \nOWNED BY XCLSV ENTERTAINMENT
URL:https://xclsvofficial.com/event/bbb-2026-around-the-world-festival/
LOCATION:ROMAERO S.A.\, ROMAERO S.A.\, Bulevardul Ficusului 44\, București 013975\, Bucharest\, Bucharest\, Romania
ATTACH;FMTTYPE=image/jpeg:https://xclsvofficial.com/wp-content/uploads/2026/03/COVER-Afis-OFFSET-BBB-ATW-2026.jpg
ORGANIZER;CN="XCLSV Official":MAILTO:office@xclsvofficial.com
END:VEVENT
END:VCALENDAR