BEGIN:VCALENDAR
VERSION:2.0
PRODID:-//XCLSV Official - ECPv6.15.12.2//NONSGML v1.0//EN
CALSCALE:GREGORIAN
METHOD:PUBLISH
X-ORIGINAL-URL:https://xclsvofficial.com
X-WR-CALDESC:Events for XCLSV Official
REFRESH-INTERVAL;VALUE=DURATION:PT1H
X-Robots-Tag:noindex
X-PUBLISHED-TTL:PT1H
BEGIN:VTIMEZONE
TZID:UTC
BEGIN:STANDARD
TZOFFSETFROM:+0000
TZOFFSETTO:+0000
TZNAME:UTC
DTSTART:20250101T000000
END:STANDARD
END:VTIMEZONE
BEGIN:VEVENT
DTSTART;TZID=UTC:20260221T190000
DTEND;TZID=UTC:20260222T020000
DTSTAMP:20260421T154835
CREATED:20260129T122016Z
LAST-MODIFIED:20260210T184819Z
UID:22292-1771700400-1771725600@xclsvofficial.com
SUMMARY:V-DAY PARTY CONSTANTA X PETRE STEFAN & MADATORRICELLI
DESCRIPTION:💘Welcome to Cupid’s Playground😈 \n#ICHC x #CMB x #TRN dau tonul distracției exact la granița dintre Valentine’s și Dragobete\, marcând a doua noastră seară la malul mării🤟🏻\nNe vedem la📍@diplomaticmamaia pentru un party care unește ambele sărbători într-o singură noapte de neuitat. 🌊🔥 \nLove Season is here❤️‍🔥\nPETRE STEFAN & MADATORRICELLI dictează atmosfera și aduc hype-ul lor inegalabil pe scenă si distractie la cel mai inalt nivel.🚩🍾 \n👁️Dress Code: Color Coded Love \n🔴 Roșu – Single\n⚪️ Alb – Taken\n⚫️ Negru – Complicated \n⚠️ Disclaimer: Acesta este un eveniment privat\, fără implicarea managementului instituțiilor de învățământ. \nOWNED BY XCLSV ENTERTAINMENT
URL:https://xclsvofficial.com/event/v-day-party-constanta-x-petre-stefan-madatorricelli/
LOCATION:DIPLOMATIC EVENT CENTER CONSTANTA\, Diplomatic Mamaia\, Constanta\, Constanta\, 900001\, Romania
ATTACH;FMTTYPE=image/jpeg:https://xclsvofficial.com/wp-content/uploads/2026/01/COVER-Afis-V-Day-Party-Petre-Stefan-Madatoricelli-21-feb-2026-Diplomatic-Constanta.jpg
ORGANIZER;CN="XCLSV Official":MAILTO:office@xclsvofficial.com
END:VEVENT
BEGIN:VEVENT
DTSTART;TZID=UTC:20260221T190000
DTEND;TZID=UTC:20260222T020000
DTSTAMP:20260421T154835
CREATED:20260129T122533Z
LAST-MODIFIED:20260129T122533Z
UID:22298-1771700400-1771725600@xclsvofficial.com
SUMMARY:AMALFI SERATA X LUIS GABRIEL
DESCRIPTION:🍋 Italian Elegance Meets La Dolce Vita 🇮🇹 \n#HER x #BEN x #KRT transformă seara într-o escapadă italiană de neuitat\, in cadrul celei mai clasice Amalfi Serata\, chiar in inima📍@oxyaclub \n🪉Scena va fi aprinsă si acompaniată de ritmuri atât românești cât și italienești\, interpretate de mult așteptatul LUIS GABRIEL🌙✨ \n🧡Dress Code: Italian Style💼 \n⚠️ Disclaimer: Acesta este un eveniment privat\, fără implicarea managementului instituțiilor de învățământ. \nOWNED BY XCLSV ENTERTAINMENT
URL:https://xclsvofficial.com/event/amalfi-serata-x-luis-gabriel/
LOCATION:OXYA CLUB BUCHAREST\, Strada Caroteni 13\, București 023831\, Bucharest\, Bucharest\, Romania
ATTACH;FMTTYPE=image/jpeg:https://xclsvofficial.com/wp-content/uploads/2026/01/WhatsApp-Image-2026-01-29-at-12.26.57.jpeg
ORGANIZER;CN="XCLSV Official":MAILTO:office@xclsvofficial.com
END:VEVENT
END:VCALENDAR