BEGIN:VCALENDAR
VERSION:2.0
PRODID:-//XCLSV Official - ECPv6.15.12.2//NONSGML v1.0//EN
CALSCALE:GREGORIAN
METHOD:PUBLISH
X-ORIGINAL-URL:https://xclsvofficial.com
X-WR-CALDESC:Events for XCLSV Official
REFRESH-INTERVAL;VALUE=DURATION:PT1H
X-Robots-Tag:noindex
X-PUBLISHED-TTL:PT1H
BEGIN:VTIMEZONE
TZID:UTC
BEGIN:STANDARD
TZOFFSETFROM:+0000
TZOFFSETTO:+0000
TZNAME:UTC
DTSTART:20240101T000000
END:STANDARD
END:VTIMEZONE
BEGIN:VEVENT
DTSTART;TZID=UTC:20251018T190000
DTEND;TZID=UTC:20251019T020000
DTSTAMP:20260422T104720
CREATED:20260129T101036Z
LAST-MODIFIED:20260129T101036Z
UID:22241-1760814000-1760839200@xclsvofficial.com
SUMMARY:NEON PARTY X ALBERT NBN\, IDK & VANILLA
DESCRIPTION:THE LEGACY CONTINUES👑 \n“#CARAGIALE era baiat de cartier” revine cu a 5-a editie in @oxyaclub 🥂 alaturi de un trio la care nu va asteptati… ALBERT NBN\, IDK & VANILLA 💣 \nSUGGESTED DRESSCODE: NEON COLORS🟢🟣 \n📍Link in bio for tickets \n⚠️Disclaimer: Acesta este un eveniment privat\, fără implicarea management-ului instituțiilor de învățământ. \nOWNED BY XCLSV ENTERTAINMENT
URL:https://xclsvofficial.com/event/neon-party-x-albert-nbn-idk-vanilla/
LOCATION:OXYA CLUB BUCHAREST\, Strada Caroteni 13\, București 023831\, Bucharest\, Bucharest\, Romania
ATTACH;FMTTYPE=image/jpeg:https://xclsvofficial.com/wp-content/uploads/2026/01/WhatsApp-Image-2026-01-29-at-11.57.10.jpeg
ORGANIZER;CN="XCLSV Official":MAILTO:office@xclsvofficial.com
END:VEVENT
END:VCALENDAR