BEGIN:VCALENDAR
VERSION:2.0
PRODID:-//XCLSV Official - ECPv6.15.12.2//NONSGML v1.0//EN
CALSCALE:GREGORIAN
METHOD:PUBLISH
X-WR-CALNAME:XCLSV Official
X-ORIGINAL-URL:https://xclsvofficial.com
X-WR-CALDESC:Events for XCLSV Official
REFRESH-INTERVAL;VALUE=DURATION:PT1H
X-Robots-Tag:noindex
X-PUBLISHED-TTL:PT1H
BEGIN:VTIMEZONE
TZID:UTC
BEGIN:STANDARD
TZOFFSETFROM:+0000
TZOFFSETTO:+0000
TZNAME:UTC
DTSTART:20240101T000000
END:STANDARD
END:VTIMEZONE
BEGIN:VEVENT
DTSTART;VALUE=DATE:20250322
DTEND;VALUE=DATE:20250323
DTSTAMP:20260424T011756
CREATED:20250307T164111Z
LAST-MODIFIED:20250307T164111Z
UID:21882-1742601600-1742687999@xclsvofficial.com
SUMMARY:Arabian Night #VLH #BSB #CLN
DESCRIPTION:Habibi\, come to Dubai! 🐪 \nBobocii din #VLH\, #BSB si #CLN va invita la ultimul bal din acest sezon alaturi de @1babyabi1 . Veniti sa descoperiti farmecul oriental la Arabian Night si pregatiti-va pentru o aventura de 1001 de nopti!🔮 \n⚠️Disclaimer: Acesta este un eveniment privat\, fara implicarea management-ului institutillor de invatamant. \nMandatory Dresscode\n•Boys in white 👳🏽‍♂️\n•Girls in glitter ✨
URL:https://xclsvofficial.com/event/arabian-night-vlh-bsb-cln/
LOCATION:OXYA CLUB BUCHAREST\, Strada Caroteni 13\, București 023831\, Bucharest\, Bucharest\, Romania
ATTACH;FMTTYPE=image/jpeg:https://xclsvofficial.com/wp-content/uploads/2025/03/WhatsApp-Image-2025-03-06-at-14.03.20-1.jpeg
ORGANIZER;CN="XCLSV Official":MAILTO:office@xclsvofficial.com
END:VEVENT
END:VCALENDAR