BEGIN:VCALENDAR
VERSION:2.0
PRODID:-//XCLSV Official - ECPv6.15.12.2//NONSGML v1.0//EN
CALSCALE:GREGORIAN
METHOD:PUBLISH
X-WR-CALNAME:XCLSV Official
X-ORIGINAL-URL:https://xclsvofficial.com
X-WR-CALDESC:Events for XCLSV Official
REFRESH-INTERVAL;VALUE=DURATION:PT1H
X-Robots-Tag:noindex
X-PUBLISHED-TTL:PT1H
BEGIN:VTIMEZONE
TZID:UTC
BEGIN:STANDARD
TZOFFSETFROM:+0000
TZOFFSETTO:+0000
TZNAME:UTC
DTSTART:20240101T000000
END:STANDARD
END:VTIMEZONE
BEGIN:VEVENT
DTSTART;VALUE=DATE:20250315
DTEND;VALUE=DATE:20250316
DTSTAMP:20260424T011807
CREATED:20250307T163930Z
LAST-MODIFIED:20250307T163930Z
UID:21879-1741996800-1742083199@xclsvofficial.com
SUMMARY:Latino Night #Cantemir & #Hasdeu📍🔥
DESCRIPTION:‼️#Cantemir & #Hasdeu📍🔥 \nIn noaptea dintre ultima zi de iarna si prima zi de primavara\, @itsbetobih & @nouaunspe vor urca in premiera pe scena la Latino Party.🏝️ \n⚠️Disclaimer: Acesta este un eveniment privat\, organizat fara implicarea management-ului institutillor de invatamant. \nSuggested Dresscode : Tropical Colors
URL:https://xclsvofficial.com/event/latino-night-cantemir-hasdeu%f0%9f%93%8d%f0%9f%94%a5/
LOCATION:OXYA CLUB BUCHAREST\, Strada Caroteni 13\, București 023831\, Bucharest\, Bucharest\, Romania
ATTACH;FMTTYPE=image/jpeg:https://xclsvofficial.com/wp-content/uploads/2025/03/WhatsApp-Image-2025-03-06-at-14.03.21.jpeg
ORGANIZER;CN="XCLSV Official":MAILTO:office@xclsvofficial.com
END:VEVENT
END:VCALENDAR