BEGIN:VCALENDAR
VERSION:2.0
PRODID:-//XCLSV Official - ECPv6.15.12.2//NONSGML v1.0//EN
CALSCALE:GREGORIAN
METHOD:PUBLISH
X-ORIGINAL-URL:https://xclsvofficial.com
X-WR-CALDESC:Events for XCLSV Official
REFRESH-INTERVAL;VALUE=DURATION:PT1H
X-Robots-Tag:noindex
X-PUBLISHED-TTL:PT1H
BEGIN:VTIMEZONE
TZID:UTC
BEGIN:STANDARD
TZOFFSETFROM:+0000
TZOFFSETTO:+0000
TZNAME:UTC
DTSTART:20240101T000000
END:STANDARD
END:VTIMEZONE
BEGIN:VEVENT
DTSTART;VALUE=DATE:20250228
DTEND;VALUE=DATE:20250301
DTSTAMP:20260424T012053
CREATED:20250131T111949Z
LAST-MODIFIED:20250207T150708Z
UID:21851-1740700800-1740787199@xclsvofficial.com
SUMMARY:Tropical Party 🏝️ #Cantemir & #Hasdeu
DESCRIPTION:#Cantemir & #Hasdeu are in the house! 🔥🫨 \nIn noaptea dintre ultima zi de iarna si prima zi de primavara\, @itsbetobih & @nouaunspe vor urca in premiera pe scena @oxyaclub la Tropical Party.🏝️ \n⚠️Disclaimer: Acesta este un eveniment privat\, organizat fara implicarea management-ului institutillor de invatamant. \nSuggested Dresscode : Tropical Colors \nLink in bio for tickets🎟️
URL:https://xclsvofficial.com/event/tropical-party-%f0%9f%8f%9d%ef%b8%8f-cantemir-hasdeu/
LOCATION:OXYA CLUB BUCHAREST\, Strada Caroteni 13\, București 023831\, Bucharest\, Bucharest\, Romania
ATTACH;FMTTYPE=image/jpeg:https://xclsvofficial.com/wp-content/uploads/2025/01/WhatsApp-Image-2025-01-29-at-17.23.41.jpeg
ORGANIZER;CN="XCLSV Official":MAILTO:office@xclsvofficial.com
END:VEVENT
END:VCALENDAR