BEGIN:VCALENDAR
VERSION:2.0
PRODID:-//XCLSV Official - ECPv6.15.12.2//NONSGML v1.0//EN
CALSCALE:GREGORIAN
METHOD:PUBLISH
X-WR-CALNAME:XCLSV Official
X-ORIGINAL-URL:https://xclsvofficial.com
X-WR-CALDESC:Events for XCLSV Official
REFRESH-INTERVAL;VALUE=DURATION:PT1H
X-Robots-Tag:noindex
X-PUBLISHED-TTL:PT1H
BEGIN:VTIMEZONE
TZID:UTC
BEGIN:STANDARD
TZOFFSETFROM:+0000
TZOFFSETTO:+0000
TZNAME:UTC
DTSTART:20230101T000000
END:STANDARD
END:VTIMEZONE
BEGIN:VEVENT
DTSTART;VALUE=DATE:20241201
DTEND;VALUE=DATE:20241202
DTSTAMP:20260426T004217
CREATED:20241111T103908Z
LAST-MODIFIED:20241111T103908Z
UID:21809-1733011200-1733097599@xclsvofficial.com
SUMMARY:#BALKAN PARTY NEC LIP MDG
DESCRIPTION:In premiera\, @costelbiju & @tonyone.1 urca pe scena clubului Oxya pe data de 1 decembrie la Balkan Party!🍾🎊 \nLa multi ani Romania! 🇷🇴 \n⚠️Disclaimer: Acesta este un eveniment privat\, fara implicarea management-ului institutiilor de invatamant.
URL:https://xclsvofficial.com/event/balkan-party-nec-lip-mdg/
LOCATION:OXYA CLUB BUCHAREST\, Strada Caroteni 13\, București 023831\, Bucharest\, Bucharest\, Romania
ATTACH;FMTTYPE=image/jpeg:https://xclsvofficial.com/wp-content/uploads/2024/11/WhatsApp-Image-2024-11-11-at-12.16.11_53f57597.jpg
ORGANIZER;CN="XCLSV Official":MAILTO:office@xclsvofficial.com
END:VEVENT
END:VCALENDAR