BEGIN:VCALENDAR
VERSION:2.0
PRODID:-//XCLSV Official - ECPv6.15.12.2//NONSGML v1.0//EN
CALSCALE:GREGORIAN
METHOD:PUBLISH
X-WR-CALNAME:XCLSV Official
X-ORIGINAL-URL:https://xclsvofficial.com
X-WR-CALDESC:Events for XCLSV Official
REFRESH-INTERVAL;VALUE=DURATION:PT1H
X-Robots-Tag:noindex
X-PUBLISHED-TTL:PT1H
BEGIN:VTIMEZONE
TZID:UTC
BEGIN:STANDARD
TZOFFSETFROM:+0000
TZOFFSETTO:+0000
TZNAME:UTC
DTSTART:20230101T000000
END:STANDARD
END:VTIMEZONE
BEGIN:VEVENT
DTSTART;VALUE=DATE:20241121
DTEND;VALUE=DATE:20241122
DTSTAMP:20260426T022700
CREATED:20241026T170828Z
LAST-MODIFIED:20241026T170828Z
UID:21795-1732147200-1732233599@xclsvofficial.com
SUMMARY:THE NEON PARTY CARAGIALE
DESCRIPTION:#CARAGIALE is back home!🔥 \n@mgk666bigboss se intoarce anul acesta la #CARAGIALE alaturi de @nbnofficialmusic la cel mai asteptat #NEONPARTY din acest an❗️🥂 \n🚨Sugested Dress Code: Neon Colors🟢🟣 \n⚠️Disclaimer: Acesta este un eveniment privat\, fara implicarea management-ului institutiilor de invatamant.
URL:https://xclsvofficial.com/event/the-neon-party-caragiale/
LOCATION:OXYA CLUB BUCHAREST\, Strada Caroteni 13\, București 023831\, Bucharest\, Bucharest\, Romania
ATTACH;FMTTYPE=image/jpeg:https://xclsvofficial.com/wp-content/uploads/2024/10/WhatsApp-Image-2024-10-26-at-19.55.16.jpeg
ORGANIZER;CN="XCLSV Official":MAILTO:office@xclsvofficial.com
END:VEVENT
END:VCALENDAR